BEGIN:VCALENDAR
VERSION:2.0
PRODID:-//Cevi Windisch - ECPv6.15.20//NONSGML v1.0//EN
CALSCALE:GREGORIAN
METHOD:PUBLISH
X-ORIGINAL-URL:https://cevi-windisch.ch
X-WR-CALDESC:Veranstaltungen für Cevi Windisch
REFRESH-INTERVAL;VALUE=DURATION:PT1H
X-Robots-Tag:noindex
X-PUBLISHED-TTL:PT1H
BEGIN:VTIMEZONE
TZID:Europe/Berlin
BEGIN:DAYLIGHT
TZOFFSETFROM:+0100
TZOFFSETTO:+0200
TZNAME:CEST
DTSTART:20250330T010000
END:DAYLIGHT
BEGIN:STANDARD
TZOFFSETFROM:+0200
TZOFFSETTO:+0100
TZNAME:CET
DTSTART:20251026T010000
END:STANDARD
BEGIN:DAYLIGHT
TZOFFSETFROM:+0100
TZOFFSETTO:+0200
TZNAME:CEST
DTSTART:20260329T010000
END:DAYLIGHT
BEGIN:STANDARD
TZOFFSETFROM:+0200
TZOFFSETTO:+0100
TZNAME:CET
DTSTART:20261025T010000
END:STANDARD
BEGIN:DAYLIGHT
TZOFFSETFROM:+0100
TZOFFSETTO:+0200
TZNAME:CEST
DTSTART:20270328T010000
END:DAYLIGHT
BEGIN:STANDARD
TZOFFSETFROM:+0200
TZOFFSETTO:+0100
TZNAME:CET
DTSTART:20271031T010000
END:STANDARD
END:VTIMEZONE
BEGIN:VEVENT
DTSTART;TZID=Europe/Berlin:20260613T140000
DTEND;TZID=Europe/Berlin:20260613T170000
DTSTAMP:20260424T180454
CREATED:20251222T192853Z
LAST-MODIFIED:20251222T192853Z
UID:1801-1781359200-1781370000@cevi-windisch.ch
SUMMARY:Cevi (Programm)
DESCRIPTION:Liebe Alle \nAn diesem Samstag findet Cevi statt. Mehr Informationen findest du auf der Seite deiner Gruppe. \nSaira: hier \nRisu: hier \nTortuga: hier \nBei Fragen zum Programm kannst du dich an deine Gruppenleiter*innen wenden. Bei allgemeinen Fragen zur Cevi steht dir die Abteilungsleiterin Sarina v/o Foxi unter 079 578 24 65 oder sarina.schaffner@bluewin.ch gerne zur Verfügung.
URL:https://cevi-windisch.ch/agenda/cevi-programm-13/
CATEGORIES:Programme Samstagnachmittag
END:VEVENT
END:VCALENDAR