BEGIN:VCALENDAR
VERSION:2.0
PRODID:-//Cevi Windisch - ECPv6.15.20//NONSGML v1.0//EN
CALSCALE:GREGORIAN
METHOD:PUBLISH
X-WR-CALNAME:Cevi Windisch
X-ORIGINAL-URL:https://cevi-windisch.ch
X-WR-CALDESC:Veranstaltungen für Cevi Windisch
REFRESH-INTERVAL;VALUE=DURATION:PT1H
X-Robots-Tag:noindex
X-PUBLISHED-TTL:PT1H
BEGIN:VTIMEZONE
TZID:Europe/Berlin
BEGIN:DAYLIGHT
TZOFFSETFROM:+0100
TZOFFSETTO:+0200
TZNAME:CEST
DTSTART:20250330T010000
END:DAYLIGHT
BEGIN:STANDARD
TZOFFSETFROM:+0200
TZOFFSETTO:+0100
TZNAME:CET
DTSTART:20251026T010000
END:STANDARD
BEGIN:DAYLIGHT
TZOFFSETFROM:+0100
TZOFFSETTO:+0200
TZNAME:CEST
DTSTART:20260329T010000
END:DAYLIGHT
BEGIN:STANDARD
TZOFFSETFROM:+0200
TZOFFSETTO:+0100
TZNAME:CET
DTSTART:20261025T010000
END:STANDARD
BEGIN:DAYLIGHT
TZOFFSETFROM:+0100
TZOFFSETTO:+0200
TZNAME:CEST
DTSTART:20270328T010000
END:DAYLIGHT
BEGIN:STANDARD
TZOFFSETFROM:+0200
TZOFFSETTO:+0100
TZNAME:CET
DTSTART:20271031T010000
END:STANDARD
END:VTIMEZONE
BEGIN:VEVENT
DTSTART;TZID=Europe/Berlin:20260314T140000
DTEND;TZID=Europe/Berlin:20260314T170000
DTSTAMP:20260424T152431
CREATED:20251222T191845Z
LAST-MODIFIED:20251222T191845Z
UID:1787-1773496800-1773507600@cevi-windisch.ch
SUMMARY:Cevi (Programm)
DESCRIPTION:Liebe Alle \nAn diesem Samstag findet Cevi statt. Mehr Informationen findest du auf der Seite deiner Gruppe. \nSaira: hier \nRisu: hier \nTortuga: hier \nBei Fragen zum Programm kannst du dich an deine Gruppenleiter*innen wenden. Bei allgemeinen Fragen zur Cevi steht dir die Abteilungsleiterin Sarina v/o Foxi unter 079 578 24 65 oder sarina.schaffner@bluewin.ch gerne zur Verfügung.
URL:https://cevi-windisch.ch/agenda/cevi-programm-8/
CATEGORIES:Programme Samstagnachmittag
END:VEVENT
BEGIN:VEVENT
DTSTART;TZID=Europe/Berlin:20260318T190000
DTEND;TZID=Europe/Berlin:20260318T203000
DTSTAMP:20260424T152431
CREATED:20251222T192221Z
LAST-MODIFIED:20251222T192221Z
UID:1789-1773860400-1773865800@cevi-windisch.ch
SUMMARY:Generalversammlung 2026
DESCRIPTION:Am Mittwoch\, 18. März 2026\, um 19:00 Uhr\, findet im Kirchgemeindehaus Windisch die Generalversammlung des Cevi Windisch statt. \nZur Erinnerung: Die Eltern sind stellvertretend für ihre Kinder eingeladen. \nIm Anschluss zur GV freuen wir uns über einen regen Austausch am Cevi-\nGrill\, wo nach Lust und Laune gebrätelt werden kann. \nWir freuen uns auf ein gemütliches Beisammensein. \nGenauere Informationen werden mit der Einladung GV im Februar 2026 versendet.
URL:https://cevi-windisch.ch/agenda/generalversammlung-2026/
LOCATION:KGH Windisch\, Dorfstrasse 27\, 5210 Windisch\, Aargau\, Schweiz
CATEGORIES:Jahresprogramm
END:VEVENT
BEGIN:VEVENT
DTSTART;TZID=Europe/Berlin:20260328T140000
DTEND;TZID=Europe/Berlin:20260328T170000
DTSTAMP:20260424T152431
CREATED:20251222T192323Z
LAST-MODIFIED:20251222T192323Z
UID:1791-1774706400-1774717200@cevi-windisch.ch
SUMMARY:Cevi (Programm)
DESCRIPTION:Liebe Alle \nAn diesem Samstag findet Cevi statt. Mehr Informationen findest du auf der Seite deiner Gruppe. \nSaira: hier \nRisu: hier \nTortuga: hier \nBei Fragen zum Programm kannst du dich an deine Gruppenleiter*innen wenden. Bei allgemeinen Fragen zur Cevi steht dir die Abteilungsleiterin Sarina v/o Foxi unter 079 578 24 65 oder sarina.schaffner@bluewin.ch gerne zur Verfügung.
URL:https://cevi-windisch.ch/agenda/cevi-programm-9/
CATEGORIES:Programme Samstagnachmittag
END:VEVENT
END:VCALENDAR